BEGIN:VCALENDAR
VERSION:2.0
PRODID:-//Natural Lizard - ECPv6.15.20//NONSGML v1.0//EN
CALSCALE:GREGORIAN
METHOD:PUBLISH
X-WR-CALNAME:Natural Lizard
X-ORIGINAL-URL:https://23.naturallizard.co.uk
X-WR-CALDESC:Events for Natural Lizard
REFRESH-INTERVAL;VALUE=DURATION:PT1H
X-Robots-Tag:noindex
X-PUBLISHED-TTL:PT1H
BEGIN:VTIMEZONE
TZID:UTC
BEGIN:STANDARD
TZOFFSETFROM:+0000
TZOFFSETTO:+0000
TZNAME:UTC
DTSTART:20240101T000000
END:STANDARD
END:VTIMEZONE
BEGIN:VEVENT
DTSTART;TZID=UTC:20260414T133000
DTEND;TZID=UTC:20260414T153000
DTSTAMP:20260421T092605
CREATED:20260413T160409Z
LAST-MODIFIED:20260413T160410Z
UID:9557-1776173400-1776180600@23.naturallizard.co.uk
SUMMARY:Penrose Social Walks: Highburrow
DESCRIPTION:This event is organised by Penrose National Trust. Please see their website for full details: https://bit.ly/4cG7NP1. The event is free and there is no need to book. \n\n\n\nEveryone is welcome to join us for a gentle walk at Penrose\, as part of our social walk series. This walk starts at Highburrow car park near Porthleven and will take in views across Loe Bar and the surrounding countryside. The walk is approximately 3.5 miles long and will take around 2 hours.  \n\n\n\nThe walks are led by volunteer walk leaders and offer the opportunity for anybody to spend time in nature and meet new people. Everyone is welcome\, of all abilities and experience\, and the walk leader will facilitate the walk to ensure everybody feels comfortable.
URL:https://23.naturallizard.co.uk/event/penrose-social-walks-highburrow/
LOCATION:Highburrow car park\, TR13 9EU\, United Kingdom
CATEGORIES:National Trust,Social Walk
ATTACH;FMTTYPE=image/jpeg:https://23.naturallizard.co.uk/wp-content/uploads/2025/08/Loe-Bar_1-scaled.jpg
END:VEVENT
BEGIN:VEVENT
DTSTART;TZID=UTC:20260408T103000
DTEND;TZID=UTC:20260408T130000
DTSTAMP:20260421T092605
CREATED:20260309T130428Z
LAST-MODIFIED:20260309T130429Z
UID:9397-1775644200-1775653200@23.naturallizard.co.uk
SUMMARY:Understanding the Misunderstood: Adders
DESCRIPTION:This event is organised by Wildlife Groundswell. It is all about Adders\, and involves a walk and talk with Tylan Berry\, at Windmill Farm Nature Reserve on The Lizard. You can reserve your free place – donations to Wildlife Groundswell welcome – by emailing wildlifegroundswell@gmail.com. Please wear clothing appropriate for the predicted weather\, as well as waterproof boots or wellies. \n\n\n\nPlease note there are no toilet facilities at Windmill Farm and you will need to bring your own refreshments. \n\n\n\nThis is a fringe event for Wildlife Groundswell’s Celebration of Nature
URL:https://23.naturallizard.co.uk/event/understanding-the-misunderstood-adders/
LOCATION:Windmill Farm\, TR12 7LH
CATEGORIES:Wildlife Groundswell
ATTACH;FMTTYPE=image/jpeg:https://23.naturallizard.co.uk/wp-content/uploads/2013/05/AdderBabyAdder320DougyWright2.jpg
END:VEVENT
BEGIN:VEVENT
DTSTART;TZID=UTC:20260405T100000
DTEND;TZID=UTC:20260405T110000
DTSTAMP:20260421T092605
CREATED:20251201T132930Z
LAST-MODIFIED:20251201T132932Z
UID:9165-1775383200-1775386800@23.naturallizard.co.uk
SUMMARY:Kennack Sands Beach Clean
DESCRIPTION:The Friends of Kennack Sands run a family-friendly beach clean on the first Sunday of every month\, starting at 10am. Everyone is welcome to come along and help keep Kennack Sands beautiful! Bin bags\, gloves\, litter pickers and hand sanitisers are all provided – just bring yourselves. \n\n\n\nWhat3Words location: ///poem.socialite.sped
URL:https://23.naturallizard.co.uk/event/kennack-sands-beach-clean-4/
LOCATION:Kennack Sands\, Cornwall\, TR12 7LT\, United Kingdom
CATEGORIES:Beach Cleans
ATTACH;FMTTYPE=image/jpeg:https://23.naturallizard.co.uk/wp-content/uploads/2020/01/1KennackSandsAJS.jpg
END:VEVENT
BEGIN:VEVENT
DTSTART;TZID=UTC:20251020T100000
DTEND;TZID=UTC:20260430T150000
DTSTAMP:20260421T092605
CREATED:20251020T142014Z
LAST-MODIFIED:20251020T142017Z
UID:9095-1760954400-1777561200@23.naturallizard.co.uk
SUMMARY:Nature Recovery in Cornwall: Exhibition
DESCRIPTION:This photography exhibition is hosted by the National Trust at Penrose. \n\n\n\nOn a single day in summer\, one acre of wildflower meadow can contain 3 million flowers\, producing 1kg of nectar sugar. That’s enough to support nearly 96\,000 honeybees per day.  \n\n\n\n97% of species-rich grassland has been lost in the UK since the 1930s\, with the remaining 3% mostly fragmented across the country\, leaving little room for wildlife to spread.  \n\n\n\nExplore how the National Trust and partners are tackling these issues\, through the Coastal Meadows project and the Lizard Rarities Project\, in this photography exhibition.
URL:https://23.naturallizard.co.uk/event/nature-recovery-in-cornwall-exhibition/
LOCATION:Penrose\, Stables Cafe exhibition space\, The Stables\, Penrose Estate\, Helston\, TR13 0RD\, United Kingdom
ATTACH;FMTTYPE=image/jpeg:https://23.naturallizard.co.uk/wp-content/uploads/2013/09/Common-Knapweed_2-scaled.jpg
END:VEVENT
END:VCALENDAR